BYTEORDER      M
LAYOUT         BIL
NROWS          1391
NCOLS          1098
NBANDS         1
NBITS          16
SKIPBYTES      0
XDIM           10.000000
YDIM           10.000000
ULXMAP         521777.468694
ULYMAP         4247484.236445
