BYTEORDER      M
LAYOUT         BIL
NROWS          1391
NCOLS          1094
NBANDS         1
NBITS          16
SKIPBYTES      0
XDIM           10.000000
YDIM           10.000000
ULXMAP         521707.432505
ULYMAP         4275224.486248
