BYTEORDER      M
LAYOUT         BIL
NROWS          1388
NCOLS          1091
NBANDS         1
NBITS          16
SKIPBYTES      0
XDIM           10.000000
YDIM           10.000000
ULXMAP         499937.454695
ULYMAP         4275164.616667
