54.371103
0.000000
0.000000
-54.384757
498291.075000
4277311.425000
