10.00000000000000
0.00000000000000
0.00000000000000
-10.00000000000000
499937.09375000000000
4275224.00000000000000
