1.00000000000000
0.00000000000000
0.00000000000000
-1.00000000000000
499937.96875000000000
4275168.50000000000000
