1.00000000000000
0.00000000000000
0.00000000000000
-1.00000000000000
521700.18750000000000
4275227.00000000000000
