1.00000000000000
0.00000000000000
0.00000000000000
-1.00000000000000
510838.28125000000000
4261320.00000000000000
