1.00000000000000
0.00000000000000
0.00000000000000
-1.00000000000000
521738.43750000000000
4261357.50000000000000
