1.00000000000000
0.00000000000000
0.00000000000000
-1.00000000000000
510919.3112
4247246.6048
