1.00000000000000
0.00000000000000
0.00000000000000
-1.00000000000000
521838.1368
4247283.0859
